BEGIN:VCALENDAR
VERSION:2.0
PRODID:-//Clarborough and Welham Parish Council//Meeting Calendar//EN
CALSCALE:GREGORIAN
METHOD:PUBLISH
BEGIN:VEVENT
UID:70552-20240513@clarboroughandwelhamparishcouncil.gov.uk
DTSTAMP:20260423T083824Z
DTSTART;VALUE=DATE:20240513
DTEND;VALUE=DATE:20240514
SUMMARY:Clarborough &#038\\; Welham Annual Parish Council Meeting – 13th May 2024
DESCRIPTION:Annual Meeting\nView details: https://clarboroughandwelhamparishcouncil.gov.uk/meetings/pc-meeting-2024-05-13/
URL:https://clarboroughandwelhamparishcouncil.gov.uk/meetings/pc-meeting-2024-05-13/
END:VEVENT
END:VCALENDAR
