BEGIN:VCALENDAR
VERSION:2.0
PRODID:-//Clarborough and Welham Parish Council//Meeting Calendar//EN
CALSCALE:GREGORIAN
METHOD:PUBLISH
BEGIN:VEVENT
UID:70399-20230515@clarboroughandwelhamparishcouncil.gov.uk
DTSTAMP:20260420T125156Z
DTSTART;VALUE=DATE:20230515
DTEND;VALUE=DATE:20230516
SUMMARY:Clarborough &#038\\; Welham Annual Parish Council Meeting &#8211\\; 15th May 2023
DESCRIPTION:Full Council Meeting\nView details: https://clarboroughandwelhamparishcouncil.gov.uk/meetings/clarborough-welham-annual-parish-council-meeting-15th-may-2023/
URL:https://clarboroughandwelhamparishcouncil.gov.uk/meetings/clarborough-welham-annual-parish-council-meeting-15th-may-2023/
END:VEVENT
END:VCALENDAR
