BEGIN:VCALENDAR
VERSION:2.0
PRODID:-//Clarborough and Welham Parish Council//Meeting Calendar//EN
CALSCALE:GREGORIAN
METHOD:PUBLISH
BEGIN:VEVENT
UID:70435-20220627@clarboroughandwelhamparishcouncil.gov.uk
DTSTAMP:20260422T083413Z
DTSTART;VALUE=DATE:20220627
DTEND;VALUE=DATE:20220628
SUMMARY:Clarborough &#038\\; Welham Parish Council Meeting &#8211\\; 27th June 2022
DESCRIPTION:Full Council Meeting\nView details: https://clarboroughandwelhamparishcouncil.gov.uk/meetings/clarborough-welham-parish-council-meeting-27th-june-2022/
URL:https://clarboroughandwelhamparishcouncil.gov.uk/meetings/clarborough-welham-parish-council-meeting-27th-june-2022/
END:VEVENT
END:VCALENDAR
